BEGIN:VCALENDAR
VERSION:2.0
PRODID:-//Torslanda Dart//Kalender//SV
CALSCALE:GREGORIAN
BEGIN:VEVENT
UID:mock-traning-2@torslandadart.se
DTSTAMP:20260423T174035Z
DTSTART:20260507T180000Z
DTEND:20260507T203000Z
SUMMARY:Nybörjarkväll med coach
DESCRIPTION:Grepp\, kastlinje och rytm. Lånedart finns att låna på plats.
LOCATION:Restaurang Hörnet\, Gamla flygplatsvägen 18
END:VEVENT
END:VCALENDAR