BEGIN:VCALENDAR
VERSION:2.0
PRODID:-//Torslanda Dart//Kalender//SV
CALSCALE:GREGORIAN
BEGIN:VEVENT
UID:mock-traning-1@torslandadart.se
DTSTAMP:20260423T175056Z
DTSTART:20260429T180000Z
DTEND:20260429T203000Z
SUMMARY:Öppen träning i hamnhallen
DESCRIPTION:Teknik\, matchspel och avslappnat häng. Perfekt för både nybörjare och vana spelare.
LOCATION:Restaurang Hörnet\, Gamla flygplatsvägen 18
END:VEVENT
END:VCALENDAR