BEGIN:VCALENDAR
VERSION:2.0
PRODID:-//Torslanda Dart//Kalender//SV
CALSCALE:GREGORIAN
BEGIN:VEVENT
UID:mock-tavling-1@torslandadart.se
DTSTAMP:20260423T160008Z
DTSTART:20260426T140000Z
DTEND:20260426T180000Z
SUMMARY:Helgtävling: Kustpilen
DESCRIPTION:Singelturnering med gruppspel och slutspel. Alla nivåer är välkomna.
LOCATION:Restaurang Hörnet\, Gamla flygplatsvägen 18
END:VEVENT
END:VCALENDAR