BEGIN:VCALENDAR
VERSION:2.0
PRODID:-//Torslanda Dart//Kalender//SV
CALSCALE:GREGORIAN
BEGIN:VEVENT
UID:mock-serie-2@torslandadart.se
DTSTAMP:20260423T193641Z
DTSTART:20260512T180000Z
DTEND:20260512T203000Z
SUMMARY:Seriesamling och matchgenomgång
DESCRIPTION:Vi går igenom form\, laguppställning och kvällens matchplan.
LOCATION:Restaurang Hörnet\, Gamla flygplatsvägen 18
END:VEVENT
END:VCALENDAR