BEGIN:VCALENDAR
VERSION:2.0
PRODID:-//Torslanda Dart//Kalender//SV
CALSCALE:GREGORIAN
BEGIN:VEVENT
UID:mock-serie-1@torslandadart.se
DTSTAMP:20260423T174905Z
DTSTART:20260428T180000Z
DTEND:20260428T210000Z
SUMMARY:Serieomgång väst
DESCRIPTION:Laguttagning och seriespel. Kom gärna tidigare för uppvärmning och uppställning.
LOCATION:Restaurang Hörnet\, Gamla flygplatsvägen 18
END:VEVENT
END:VCALENDAR